Workbook

Sheet weights F series
A1: 380kV Tower Weights
C2: Tower Weights | D2: SEC
A4: "F-T2" | C4: "F-T2"
A5: Description | C5: Unit Weights (kg) | D5: Total Weight | H5: "F-T2" | I5: =B6 -> 21
A6: Basic Body | B6: ='F series weights Calculator'!K4 -> 21 | C6: 111 | D6: =B6*C6 -> 2331 | H6: "F-SA10" | I6: =B21 -> 1
A7: +12m Body Extension | B7: ='F series weights Calculator'!K5 -> 3 | C7: 222 | D7: =B7*C7 -> 666 | H7: "F-MA35" | I7: =B36 -> 4
A8: +6m Body Extension | B8: ='F series weights Calculator'!K6 -> 7 | C8: 333 | D8: =B8*C8 -> 2331 | H8: "F-LA60" | I8: =B51 -> 1
A9: +2m Leg Extension | B9: ='F series weights Calculator'!K7 -> 0 | C9: 444 | D9: =B9*C9 -> 0 | H9: "F-HA90" | I9: =B66 -> 1
A10: +4m Leg Extension | B10: ='F series weights Calculator'!K8 -> 3 | C10: 555 | D10: =B10*C10 -> 1665 | H10: "F-DE30" | I10: =B81 -> 6
A11: +6m Leg Extension | B11: ='F series weights Calculator'!K9 -> 7 | C11: 666 | D11: =B11*C11 -> 4662 | H11: "F-AN3" | I11: =B96 -> 3
A12: +8m Leg Extension | B12: ='F series weights Calculator'!K10 -> 11 | C12: 777 | D12: =B12*C12 -> 8547 | H12: "F-TR" | I12: =B111 -> 0
A13: JET Washing Platform | D13: =B13*C13 -> 0 | H13: gantries | I13: =B125 -> 0
A14: Level platform (middle x-arm level) | B14: ='F series weights Calculator'!K12 -> 3 | C14: 666 | D14: =B14*C14 -> 1998 | H14: TOTAL | I14: =SUM(I5:I13) -> 37
A15: long Stub (for 4-legs) | C15: 666 | D15: =B15*C15 -> 0
A16: short Stub (for 4-legs) | C16: 666 | D16: =B16*C16 -> 0
A17: Template | B17: ='F series weights Calculator'!K14 -> 2 | C17: 666 | D17: =B17*C17 -> 1332
A18: Total | D18: =SUM(D6:D17) -> 23532
A19: "F-SA10" | C19: "F-SA10"
A20: Description
A21: Basic Body | B21: ='F series weights Calculator'!K16 -> 1 | C21: 111 | D21: =B21*C21 -> 111
A22: +12m Body Extension | B22: ='F series weights Calculator'!K17 -> 0 | C22: 222 | D22: =B22*C22 -> 0
A23: +6m Body Extension | B23: ='F series weights Calculator'!K18 -> 0 | C23: 333 | D23: =B23*C23 -> 0
A24: +2m Leg Extension | B24: ='F series weights Calculator'!K19 -> 0 | C24: 444 | D24: =B24*C24 -> 0
A25: +4m Leg Extension | B25: ='F series weights Calculator'!K20 -> 0 | C25: 555 | D25: =B25*C25 -> 0
A26: +6m Leg Extension | B26: ='F series weights Calculator'!K21 -> 0 | C26: 666 | D26: =B26*C26 -> 0
A27: +8m Leg Extension | B27: ='F series weights Calculator'!K22 -> 1 | C27: 777 | D27: =B27*C27 -> 777
A28: JET Washing Platform | D28: =B28*C28 -> 0
A29: Level platform (middle x-arm level) | B29: ='F series weights Calculator'!K24 -> 0 | C29: 666 | D29: =B29*C29 -> 0
A30: long Stub (for 4-legs) | C30: 666 | D30: =B30*C30 -> 0
A31: short Stub (for 4-legs) | C31: 666 | D31: =B31*C31 -> 0
A32: template | B32: ='F series weights Calculator'!K26 -> 1 | C32: 666 | D32: =B32*C32 -> 666
A33: Total | D33: =SUM(D21:D32) -> 1554
A34: "F-MA35" | C34: "F-MA35"
A35: Description
A36: Basic Body | B36: ='F series weights Calculator'!K28 -> 4 | C36: 111 | D36: =B36*C36 -> 444
A37: +12m Body Extension | B37: ='F series weights Calculator'!K29 -> 0 | C37: 222 | D37: =B37*C37 -> 0
A38: +6m Body Extension | B38: ='F series weights Calculator'!K30 -> 0 | C38: 333 | D38: =B38*C38 -> 0
A39: +2m Leg Extension | B39: ='F series weights Calculator'!K31 -> 0 | C39: 444 | D39: =B39*C39 -> 0
A40: +4m Leg Extension | B40: ='F series weights Calculator'!K32 -> 0 | C40: 555 | D40: =B40*C40 -> 0
A41: +6m Leg Extension | B41: ='F series weights Calculator'!K33 -> 0 | C41: 666 | D41: =B41*C41 -> 0
A42: +8m Leg Extension | B42: ='F series weights Calculator'!K34 -> 4 | C42: 777 | D42: =B42*C42 -> 3108
A43: JET Washing Platform | D43: =B43*C43 -> 0
A44: Level platform (middle x-arm level) | B44: ='F series weights Calculator'!K36 -> 0 | C44: 666 | D44: =B44*C44 -> 0
A45: long Stub (for 4-legs) | C45: 666 | D45: =B45*C45 -> 0
A46: short Stub (for 4-legs) | C46: 666 | D46: =B46*C46 -> 0
A47: template | B47: ='F series weights Calculator'!K38 -> 1 | C47: 666 | D47: =B47*C47 -> 666
A48: Total | D48: =SUM(D36:D47) -> 4218
A49: "F-LA60" | C49: "F-LA60"
A50: Description
A51: Basic Body | B51: ='F series weights Calculator'!K40 -> 1 | C51: 111 | D51: =B51*C51 -> 111
A52: +12m Body Extension | B52: ='F series weights Calculator'!K41 -> 0 | C52: 222 | D52: =B52*C52 -> 0
A53: +6m Body Extension | B53: ='F series weights Calculator'!K42 -> 0 | C53: 333 | D53: =B53*C53 -> 0
A54: +2m Leg Extension | B54: ='F series weights Calculator'!K43 -> 0 | C54: 444 | D54: =B54*C54 -> 0
A55: +4m Leg Extension | B55: ='F series weights Calculator'!K44 -> 1 | C55: 555 | D55: =B55*C55 -> 555
A56: +6m Leg Extension | B56: ='F series weights Calculator'!K45 -> 0 | C56: 666 | D56: =B56*C56 -> 0
A57: +8m Leg Extension | B57: ='F series weights Calculator'!K46 -> 0 | C57: 777 | D57: =B57*C57 -> 0
A58: JET Washing Platform | D58: =B58*C58 -> 0
A59: Level platform (middle x-arm level) | B59: ='F series weights Calculator'!K48 -> 0 | C59: 666 | D59: =B59*C59 -> 0
A60: long Stub (for 4-legs) | C60: 666 | D60: =B60*C60 -> 0
A61: short Stub (for 4-legs) | C61: 666 | D61: =B61*C61 -> 0
A62: template | B62: ='F series weights Calculator'!K50 -> 1 | C62: 666 | D62: =B62*C62 -> 666
A63: Total | D63: =SUM(D51:D62) -> 1332
A64: "F-HA90" | C64: "F-HA90"
A65: Description
A66: Basic Body | B66: ='F series weights Calculator'!K52 -> 1 | C66: 111 | D66: =B66*C66 -> 111
A67: +12m Body Extension | B67: ='F series weights Calculator'!K53 -> 0 | C67: 222 | D67: =B67*C67 -> 0
A68: +6m Body Extension | B68: ='F series weights Calculator'!K54 -> 0 | C68: 333 | D68: =B68*C68 -> 0
A69: +2m Leg Extension | B69: ='F series weights Calculator'!K55 -> 0 | C69: 444 | D69: =B69*C69 -> 0
A70: +4m Leg Extension | B70: ='F series weights Calculator'!K56 -> 1 | C70: 555 | D70: =B70*C70 -> 555
A71: +6m Leg Extension | B71: ='F series weights Calculator'!K57 -> 0 | C71: 666 | D71: =B71*C71 -> 0
A72: +8m Leg Extension | B72: ='F series weights Calculator'!K58 -> 0 | C72: 777 | D72: =B72*C72 -> 0
A73: JET Washing Platform | D73: =B73*C73 -> 0
A74: Level platform (middle x-arm level) | B74: ='F series weights Calculator'!K60 -> 0 | C74: 666 | D74: =B74*C74 -> 0
A75: long Stub (for 4-legs) | C75: 666 | D75: =B75*C75 -> 0
A76: short Stub (for 4-legs) | C76: 666 | D76: =B76*C76 -> 0 | E76: 2+ testing
A77: template | B77: ='F series weights Calculator'!K62 -> 1 | C77: 666 | D77: =B77*C77 -> 666
A78: Total | D78: =SUM(D66:D77) -> 1332
A79: "F-DE30" | C79: F-DE30
A80: Description
A81: Basic Body | B81: ='F series weights Calculator'!K64+1 -> 6 | C81: 111 | D81: =B81*C81 -> 666
A82: +12m Body Extension | B82: ='F series weights Calculator'!K65+1 -> 3 | C82: 222 | D82: =B82*C82 -> 666
A83: +6m Body Extension | B83: ='F series weights Calculator'!K66 -> 1 | C83: 333 | D83: =B83*C83 -> 333
A84: +2m Leg Extension | B84: ='F series weights Calculator'!K67 -> 2 | C84: 444 | D84: =B84*C84 -> 888
A85: +4m Leg Extension | B85: ='F series weights Calculator'!K68 -> 0 | C85: 555 | D85: =B85*C85 -> 0
A86: +6m Leg Extension | B86: ='F series weights Calculator'!K69 -> 1 | C86: 666 | D86: =B86*C86 -> 666
A87: +8m Leg Extension | B87: ='F series weights Calculator'!K70+1 -> 3 | C87: 777 | D87: =B87*C87 -> 2331
A88: JET Washing Platform | D88: =B88*C88 -> 0
A89: Level platform (middle x-arm level) | B89: ='F series weights Calculator'!K72 -> 3 | C89: 666 | D89: =B89*C89 -> 1998
A90: long Stub (for 4-legs) | C90: 666 | D90: =B90*C90 -> 0
A91: short Stub (for 4-legs) | C91: 666 | D91: =B91*C91 -> 0
A92: template | B92: ='F series weights Calculator'!K74 -> 1 | C92: 666 | D92: =B92*C92 -> 666
A93: Total | D93: =SUM(D81:D92)+30000 -> 38214 | E93: 1 special
A94: "F-AN3"
A95: Description
A96: Basic Body | B96: ='F series weights Calculator'!K76+1 -> 3 | C96: 111 | D96: =B96*C96 -> 333
A97: +12m Body Extension | B97: ='F series weights Calculator'!K77+1 -> 1 | C97: 222 | D97: =B97*C97 -> 222 | H97: MM-AN-12+8
A98: +6m Body Extension | B98: ='F series weights Calculator'!K78 -> 1 | C98: 333 | D98: =B98*C98 -> 333
A99: +2m Leg Extension | B99: ='F series weights Calculator'!K79 -> 0 | C99: 444 | D99: =B99*C99 -> 0
A100: +4m Leg Extension | B100: ='F series weights Calculator'!K80 -> 1 | C100: 555 | D100: =B100*C100 -> 555
A101: +6m Leg Extension | B101: ='F series weights Calculator'!K81 -> 0 | C101: 666 | D101: =B101*C101 -> 0
...

Sheet weights Stubs
A1: 380kV Tower Weights
C2: Tower Weights | D2: SEC
A4: "F-T2" | C4: "F-T2"
A5: Description | C5: Unit Weights (kg) | D5: Total Weight | H5: "F-T2" | I5: =B16 -> 23
A6: Basic Body | C6: 111 | D6: =B6*C6 -> 0 | H6: "F-SA10" | I6: =B31 -> 1
A7: +12m Body Extension | C7: 222 | D7: =B7*C7 -> 0 | H7: "F-MA35" | I7: =B46 -> 4
A8: +6m Body Extension | C8: 333 | D8: =B8*C8 -> 0 | H8: "F-LA60" | I8: =B61 -> 1
A9: +2m Leg Extension | C9: 444 | D9: =B9*C9 -> 0 | H9: "F-HA90" | I9: =B76 -> 3
A10: +4m Leg Extension | C10: 555 | D10: =B10*C10 -> 0 | H10: "F-DE30" | I10: =B91 -> 6
A11: +6m Leg Extension | C11: 666 | D11: =B11*C11 -> 0 | H11: "F-AN3" | I11: =B106 -> 3
A12: +8m Leg Extension | C12: 777 | D12: =B12*C12 -> 0 | H12: "F-TR" | I12: =B111 -> 0
A13: JET Washing Platform | D13: =B13*C13 -> 0 | H13: gantries | I13: =B125 -> 0
A14: Level platform (middle x-arm level) | C14: 666 | D14: =B14*C14 -> 0 | H14: TOTAL | I14: =SUM(I5:I13) -> 41
A15: long Stub (for 4-legs) | C15: 666 | D15: =B15*C15 -> 0
A16: short Stub (for 4-legs) | B16: ='F series weights Calculator'!K4+2 -> 23 | C16: 666 | D16: =B16*C16 -> 15318 | E16: 2+ testing
A17: Template | C17: 666 | D17: =B17*C17 -> 0
A18: Total | D18: =SUM(D6:D17) -> 15318
A19: "F-SA10" | C19: "F-SA10"
A20: Description
A21: Basic Body | C21: 111 | D21: =B21*C21 -> 0
A22: +12m Body Extension | C22: 222 | D22: =B22*C22 -> 0
A23: +6m Body Extension | C23: 333 | D23: =B23*C23 -> 0
A24: +2m Leg Extension | C24: 444 | D24: =B24*C24 -> 0
A25: +4m Leg Extension | C25: 555 | D25: =B25*C25 -> 0
A26: +6m Leg Extension | C26: 666 | D26: =B26*C26 -> 0
A27: +8m Leg Extension | C27: 777 | D27: =B27*C27 -> 0
A28: JET Washing Platform | D28: =B28*C28 -> 0
A29: Level platform (middle x-arm level) | C29: 666 | D29: =B29*C29 -> 0
A30: long Stub (for 4-legs) | C30: 666 | D30: =B30*C30 -> 0
A31: short Stub (for 4-legs) | B31: ='F series weights Calculator'!K16 -> 1 | C31: 666 | D31: =B31*C31 -> 666
A32: template | C32: 666 | D32: =B32*C32 -> 0
A33: Total | D33: =SUM(D21:D32) -> 666
A34: "F-MA35" | C34: "F-MA35"
A35: Description
A36: Basic Body | C36: 111 | D36: =B36*C36 -> 0
A37: +12m Body Extension | C37: 222 | D37: =B37*C37 -> 0
A38: +6m Body Extension | C38: 333 | D38: =B38*C38 -> 0
A39: +2m Leg Extension | C39: 444 | D39: =B39*C39 -> 0
A40: +4m Leg Extension | C40: 555 | D40: =B40*C40 -> 0
A41: +6m Leg Extension | C41: 666 | D41: =B41*C41 -> 0
A42: +8m Leg Extension | C42: 777 | D42: =B42*C42 -> 0
A43: JET Washing Platform | D43: =B43*C43 -> 0
A44: Level platform (middle x-arm level) | C44: 666 | D44: =B44*C44 -> 0
A45: long Stub (for 4-legs) | C45: 666 | D45: =B45*C45 -> 0
A46: short Stub (for 4-legs) | B46: ='F series weights Calculator'!K28 -> 4 | C46: 666 | D46: =B46*C46 -> 2664
A47: template | C47: 666 | D47: =B47*C47 -> 0
A48: Total | D48: =SUM(D36:D47) -> 2664
A49: "F-LA60" | C49: "F-LA60"
A50: Description
A51: Basic Body | C51: 111 | D51: =B51*C51 -> 0
A52: +12m Body Extension | C52: 222 | D52: =B52*C52 -> 0
A53: +6m Body Extension | C53: 333 | D53: =B53*C53 -> 0
A54: +2m Leg Extension | C54: 444 | D54: =B54*C54 -> 0
A55: +4m Leg Extension | C55: 555 | D55: =B55*C55 -> 0
A56: +6m Leg Extension | C56: 666 | D56: =B56*C56 -> 0
A57: +8m Leg Extension | C57: 777 | D57: =B57*C57 -> 0
A58: JET Washing Platform | D58: =B58*C58 -> 0
A59: Level platform (middle x-arm level) | C59: 666 | D59: =B59*C59 -> 0
A60: long Stub (for 4-legs) | C60: 666 | D60: =B60*C60 -> 0
A61: short Stub (for 4-legs) | B61: ='F series weights Calculator'!K40 -> 1 | C61: 666 | D61: =B61*C61 -> 666
A62: template | C62: 666 | D62: =B62*C62 -> 0
A63: Total | D63: =SUM(D51:D62) -> 666
A64: "F-HA90" | C64: "F-HA90"
A65: Description
A66: Basic Body | C66: 111 | D66: =B66*C66 -> 0
A67: +12m Body Extension | C67: 222 | D67: =B67*C67 -> 0
A68: +6m Body Extension | C68: 333 | D68: =B68*C68 -> 0
A69: +2m Leg Extension | C69: 444 | D69: =B69*C69 -> 0
A70: +4m Leg Extension | C70: 555 | D70: =B70*C70 -> 0
A71: +6m Leg Extension | C71: 666 | D71: =B71*C71 -> 0
A72: +8m Leg Extension | C72: 777 | D72: =B72*C72 -> 0
A73: JET Washing Platform | D73: =B73*C73 -> 0
A74: Level platform (middle x-arm level) | C74: 666 | D74: =B74*C74 -> 0
A75: long Stub (for 4-legs) | C75: 666 | D75: =B75*C75 -> 0
A76: short Stub (for 4-legs) | B76: ='F series weights Calculator'!K52+2 -> 3 | C76: 666 | D76: =B76*C76 -> 1998 | E76: 2+ testing
A77: template | C77: 666 | D77: =B77*C77 -> 0
A78: Total | D78: =SUM(D66:D77) -> 1998
A79: "F-DE30" | C79: F-DE30
A80: Description
A81: Basic Body | C81: 111 | D81: =B81*C81 -> 0
A82: +12m Body Extension | C82: 222 | D82: =B82*C82 -> 0
A83: +6m Body Extension | C83: 333 | D83: =B83*C83 -> 0
A84: +2m Leg Extension | C84: 444 | D84: =B84*C84 -> 0
A85: +4m Leg Extension | C85: 555 | D85: =B85*C85 -> 0
A86: +6m Leg Extension | C86: 666 | D86: =B86*C86 -> 0
A87: +8m Leg Extension | C87: 777 | D87: =B87*C87 -> 0
A88: JET Washing Platform | D88: =B88*C88 -> 0
A89: Level platform (middle x-arm level) | C89: 666 | D89: =B89*C89 -> 0
A90: long Stub (for 4-legs) | C90: 666 | D90: =B90*C90 -> 0
A91: short Stub (for 4-legs) | B91: ='F series weights Calculator'!K64+1 -> 6 | C91: 666 | D91: =B91*C91 -> 3996
A92: template | C92: 666 | D92: =B92*C92 -> 0
A93: Total | D93: =SUM(D81:D92) -> 3996
A94: "F-AN3"
A95: Description
A96: Basic Body | C96: 111 | D96: =B96*C96 -> 0
A97: +12m Body Extension | C97: 222 | D97: =B97*C97 -> 0 | H97: MM-AN-12+8
A98: +6m Body Extension | C98: 333 | D98: =B98*C98 -> 0
A99: +2m Leg Extension | C99: 444 | D99: =B99*C99 -> 0
A100: +4m Leg Extension | C100: 555 | D100: =B100*C100 -> 0
A101: +6m Leg Extension | C101: 666 | D101: =B101*C101 -> 0
...

Sheet F series weights Calculator
A1: 59.666 | C1: Gantry | D1: 33 | M1: =IF(AND(A1>=61,A1<=110),2,IF(AND(A1>110,A1<=152),3,IF(AND(A1>152,A1<=196),4,IF(AND(A1>196,A1<=243),5,IF(AND(A1>243,A1<=289),6,IF(AND(A1>289,A1<=334),7,IF(AND(A1>334,A1<=376),8,IF(AND(A1>376,A1<=427),9,IF(AND(A1>427,A1<=471),10,IF(AND(A1>=1,A1<61),1,IF(A1>471,11))))))))))) -> 1 | P1: 2
A2: 149.175 | C2: F-DE(0+2) | D2: 51.75 | M2: =IF(AND(A2>=61,A2<=110),2,IF(AND(A2>110,A2<=152),3,IF(AND(A2>152,A2<=196),4,IF(AND(A2>196,A2<=243),5,IF(AND(A2>243,A2<=289),6,IF(AND(A2>289,A2<=334),7,IF(AND(A2>334,A2<=376),8,IF(AND(A2>376,A2<=427),9,IF(AND(A2>427,A2<=471),10,IF(AND(A2>=1,A2<61),1,IF(A2>471,11))))))))))) -> 3 | O2: =A2+A1 -> 208.841 | P2: =IF(A2=O2,2," ") | Q2: =IF(P2=2,IF(COUNTIF(C2, "*T2*"), 1, " ")," " )
A3: 321.842 | C3: F-DE(6+6) | D3: 61.75 | M3: =IF(AND(A3>=61,A3<=110),2,IF(AND(A3>110,A3<=152),3,IF(AND(A3>152,A3<=196),4,IF(AND(A3>196,A3<=243),5,IF(AND(A3>243,A3<=289),6,IF(AND(A3>289,A3<=334),7,IF(AND(A3>334,A3<=376),8,IF(AND(A3>376,A3<=427),9,IF(AND(A3>427,A3<=471),10,IF(AND(A3>=1,A3<61),1,IF(A3>471,11))))))))))) -> 7 | O3: =O2+A3 -> 530.683 | P3: =IF(A3=O3,2," ") | Q3: =IF(P3=2,IF(COUNTIF(C3, "*T2*"), 1, " ")," " )
A4: 486.534 | B4: 13.2258 | C4: F-DE(12+8) | D4: 69.75 | H4: T2-F(0+2) | I4: =COUNTIF(C:C,H4) -> 0 | J4: total | K4: =SUM(I4:I15) -> 21 | M4: =IF(AND(A4>=61,A4<=110),2,IF(AND(A4>110,A4<=152),3,IF(AND(A4>152,A4<=196),4,IF(AND(A4>196,A4<=243),5,IF(AND(A4>243,A4<=289),6,IF(AND(A4>289,A4<=334),7,IF(AND(A4>334,A4<=376),8,IF(AND(A4>376,A4<=427),9,IF(AND(A4>427,A4<=471),10,IF(AND(A4>=1,A4<61),1,IF(A4>471,11))))))))))) -> 11 | O4: =O3+A4 -> 1017.217 | P4: =IF(A4=O4,2," ") | Q4: =IF(P4=2,IF(COUNTIF(C4, "*T2*"), 1, " ")," " )
A5: 344.396 | B5: 4.986 | C5: F-DE(12+8) | D5: 69.75 | H5: T2-F(0+4) | I5: =COUNTIF(C:C,H5) -> 0 | J5: 12 Body | K5: =SUM(I12:I15) -> 3 | M5: =IF(AND(A5>=61,A5<=110),2,IF(AND(A5>110,A5<=152),3,IF(AND(A5>152,A5<=196),4,IF(AND(A5>196,A5<=243),5,IF(AND(A5>243,A5<=289),6,IF(AND(A5>289,A5<=334),7,IF(AND(A5>334,A5<=376),8,IF(AND(A5>376,A5<=427),9,IF(AND(A5>427,A5<=471),10,IF(AND(A5>=1,A5<61),1,IF(A5>471,11))))))))))) -> 8 | O5: =O4+A5 -> 1361.613 | P5: =IF(A5=O5,2," ") | Q5: =IF(P5=2,IF(COUNTIF(C5, "*T2*"), 1, " ")," " )
A6: 350.905 | C6: T2-F(0+8) | D6: 58.25 | H6: T2-F(0+6) | I6: =COUNTIF(C:C,H6) -> 4 | J6: 6 Body | K6: =SUM(I8:I11) -> 7 | M6: =IF(AND(A6>=61,A6<=110),2,IF(AND(A6>110,A6<=152),3,IF(AND(A6>152,A6<=196),4,IF(AND(A6>196,A6<=243),5,IF(AND(A6>243,A6<=289),6,IF(AND(A6>289,A6<=334),7,IF(AND(A6>334,A6<=376),8,IF(AND(A6>376,A6<=427),9,IF(AND(A6>427,A6<=471),10,IF(AND(A6>=1,A6<61),1,IF(A6>471,11))))))))))) -> 8 | O6: =O5+A6 -> 1712.518 | P6: =IF(A6=O6,2," ") | Q6: =IF(P6=2,IF(COUNTIF(C6, "*T2*"), 1, " ")," " )
A7: 422.037 | C7: T2-F(6+8) | D7: 64.25 | H7: T2-F(0+8) | I7: =COUNTIF(C:C,H7) -> 7 | J7: 2 leg | K7: =I4+I8+I12 -> 0 | M7: =IF(AND(A7>=61,A7<=110),2,IF(AND(A7>110,A7<=152),3,IF(AND(A7>152,A7<=196),4,IF(AND(A7>196,A7<=243),5,IF(AND(A7>243,A7<=289),6,IF(AND(A7>289,A7<=334),7,IF(AND(A7>334,A7<=376),8,IF(AND(A7>376,A7<=427),9,IF(AND(A7>427,A7<=471),10,IF(AND(A7>=1,A7<61),1,IF(A7>471,11))))))))))) -> 9 | O7: =O6+A7 -> 2134.555 | P7: =IF(A7=O7,2," ") | Q7: =IF(P7=2,IF(COUNTIF(C7, "*T2*"), 1, " ")," " )
A8: 366.163 | B8: 57.8193 | C8: F-LA(0+4) | D8: 53.75 | H8: T2-F(6+2) | I8: =COUNTIF(C:C,H8) -> 0 | J8: 4 leg | K8: =I5+I9+I13 -> 3 | M8: =IF(AND(A8>=61,A8<=110),2,IF(AND(A8>110,A8<=152),3,IF(AND(A8>152,A8<=196),4,IF(AND(A8>196,A8<=243),5,IF(AND(A8>243,A8<=289),6,IF(AND(A8>289,A8<=334),7,IF(AND(A8>334,A8<=376),8,IF(AND(A8>376,A8<=427),9,IF(AND(A8>427,A8<=471),10,IF(AND(A8>=1,A8<61),1,IF(A8>471,11))))))))))) -> 8 | O8: =O7+A8 -> 2500.718 | P8: =IF(A8=O8,2," ") | Q8: =IF(P8=2,IF(COUNTIF(C8, "*T2*"), 1, " ")," " )
A9: 339.816 | C9: T2-F(0+6) | D9: 56.25 | H9: T2-F(6+4) | I9: =COUNTIF(C:C,H9) -> 1 | J9: 6 leg | K9: =I6+I10+I14 -> 7 | M9: =IF(AND(A9>=61,A9<=110),2,IF(AND(A9>110,A9<=152),3,IF(AND(A9>152,A9<=196),4,IF(AND(A9>196,A9<=243),5,IF(AND(A9>243,A9<=289),6,IF(AND(A9>289,A9<=334),7,IF(AND(A9>334,A9<=376),8,IF(AND(A9>376,A9<=427),9,IF(AND(A9>427,A9<=471),10,IF(AND(A9>=1,A9<61),1,IF(A9>471,11))))))))))) -> 8 | O9: =O8+A9 -> 2840.534 | P9: =IF(A9=O9,2," ") | Q9: =IF(P9=2,IF(COUNTIF(C9, "*T2*"), 1, " ")," " )
A10: 391.734 | C10: T2-F(0+8) | D10: 58.25 | H10: T2-F(6+6) | I10: =COUNTIF(C:C,H10) -> 2 | J10: 8 leg | K10: =I7+I11+I15 -> 11 | M10: =IF(AND(A10>=61,A10<=110),2,IF(AND(A10>110,A10<=152),3,IF(AND(A10>152,A10<=196),4,IF(AND(A10>196,A10<=243),5,IF(AND(A10>243,A10<=289),6,IF(AND(A10>289,A10<=334),7,IF(AND(A10>334,A10<=376),8,IF(AND(A10>376,A10<=427),9,IF(AND(A10>427,A10<=471),10,IF(AND(A10>=1,A10<61),1,IF(A10>471,11))))))))))) -> 9 | O10: =O9+A10 -> 3232.268 | P10: =IF(A10=O10,2," ") | Q10: =IF(P10=2,IF(COUNTIF(C10, "*T2*"), 1, " ")," " )
A11: 352.226 | C11: F-AN(6+4) | D11: 59.75 | H11: T2-F(6+8) | I11: =COUNTIF(C:C,H11) -> 4 | M11: =IF(AND(A11>=61,A11<=110),2,IF(AND(A11>110,A11<=152),3,IF(AND(A11>152,A11<=196),4,IF(AND(A11>196,A11<=243),5,IF(AND(A11>243,A11<=289),6,IF(AND(A11>289,A11<=334),7,IF(AND(A11>334,A11<=376),8,IF(AND(A11>376,A11<=427),9,IF(AND(A11>427,A11<=471),10,IF(AND(A11>=1,A11<61),1,IF(A11>471,11))))))))))) -> 8 | O11: =O10+A11 -> 3584.494 | P11: =IF(A11=O11,2," ") | Q11: =IF(P11=2,IF(COUNTIF(C11, "*T2*"), 1, " ")," " )
A12: 344.686 | C12: F-AN(0+8) | D12: 57.75 | H12: T2-F(12+2) | I12: =COUNTIF(C:C,H12) -> 0 | J12: platFORM | K12: =COUNTIFS(C:C,"*T2-F*",D:D,">65") -> 3 | M12: =IF(AND(A12>=61,A12<=110),2,IF(AND(A12>110,A12<=152),3,IF(AND(A12>152,A12<=196),4,IF(AND(A12>196,A12<=243),5,IF(AND(A12>243,A12<=289),6,IF(AND(A12>289,A12<=334),7,IF(AND(A12>334,A12<=376),8,IF(AND(A12>376,A12<=427),9,IF(AND(A12>427,A12<=471),10,IF(AND(A12>=1,A12<61),1,IF(A12>471,11))))))))))) -> 8 | O12: =O11+A12 -> 3929.18 | P12: =IF(A12=O12,2," ") | Q12: =IF(P12=2,IF(COUNTIF(C12, "*T2*"), 1, " ")," " )
A13: 369.372 | C13: T2-F(0+8) | D13: 58.25 | H13: T2-F(12+4) | I13: =COUNTIF(C:C,H13) -> 2 | M13: =IF(AND(A13>=61,A13<=110),2,IF(AND(A13>110,A13<=152),3,IF(AND(A13>152,A13<=196),4,IF(AND(A13>196,A13<=243),5,IF(AND(A13>243,A13<=289),6,IF(AND(A13>289,A13<=334),7,IF(AND(A13>334,A13<=376),8,IF(AND(A13>376,A13<=427),9,IF(AND(A13>427,A13<=471),10,IF(AND(A13>=1,A13<61),1,IF(A13>471,11))))))))))) -> 8 | O13: =IF((O12+A13)>4000,A13,(O12+A13)) -> 369.372 | P13: =IF(A13=O13,2," ") -> 2 | Q13: =IF(P13=2,IF(COUNTIF(C13, "*T2*"), 1, " ")," " ) -> 1
A14: 335.822 | C14: T2-F(0+6) | D14: 56.25 | H14: T2-F(12+6) | I14: =COUNTIF(C:C,H14) -> 1 | J14: Template | K14: =IF(AND(K4>=1,K4<=15),1,IF(AND(K4>15,K4<=30),2,IF(AND(K4>30,K4<=50),3,IF(AND(K4>50,K4<=80),4,IF(AND(K4>80,K4<=120),5,IF(AND(K4>120,K4<=150),5,IF(AND(K4>150,K4<=200),6,IF(AND(K4>200,K4<=250),7,IF(K4>250,8,IF(K4<1,0)))))))))) -> 2 | M14: =IF(AND(A14>=61,A14<=110),2,IF(AND(A14>110,A14<=152),3,IF(AND(A14>152,A14<=196),4,IF(AND(A14>196,A14<=243),5,IF(AND(A14>243,A14<=289),6,IF(AND(A14>289,A14<=334),7,IF(AND(A14>334,A14<=376),8,IF(AND(A14>376,A14<=427),9,IF(AND(A14>427,A14<=471),10,IF(AND(A14>=1,A14<61),1,IF(A14>471,11))))))))))) -> 8 | O14: =IF((O13+A14)>4000,A14,(O13+A14)) -> 705.194 | P14: =IF(A14=O14,2," ") | Q14: =IF(P14=2,IF(COUNTIF(C14, "*T2*"), 1, " ")," " )
A15: 326.575 | C15: T2-F(0+6) | D15: 56.25 | H15: T2-F(12+8) | I15: =COUNTIF(C:C,H15) -> 0 | M15: =IF(AND(A15>=61,A15<=110),2,IF(AND(A15>110,A15<=152),3,IF(AND(A15>152,A15<=196),4,IF(AND(A15>196,A15<=243),5,IF(AND(A15>243,A15<=289),6,IF(AND(A15>289,A15<=334),7,IF(AND(A15>334,A15<=376),8,IF(AND(A15>376,A15<=427),9,IF(AND(A15>427,A15<=471),10,IF(AND(A15>=1,A15<61),1,IF(A15>471,11))))))))))) -> 7 | O15: =IF((O14+A15)>4000,A15,(O14+A15)) -> 1031.769 | P15: =IF(A15=O15,2," ") | Q15: =IF(P15=2,IF(COUNTIF(C15, "*T2*"), 1, " ")," " )
A16: 314.29 | B16: -22.3294 | C16: F-MA(0+8) | D16: 57.75 | H16: F-SA(0+2) | I16: =COUNTIF(C:C,H16) -> 0 | J16: total | K16: =SUM(I16:I27) -> 1 | M16: =IF(AND(A16>=61,A16<=110),2,IF(AND(A16>110,A16<=152),3,IF(AND(A16>152,A16<=196),4,IF(AND(A16>196,A16<=243),5,IF(AND(A16>243,A16<=289),6,IF(AND(A16>289,A16<=334),7,IF(AND(A16>334,A16<=376),8,IF(AND(A16>376,A16<=427),9,IF(AND(A16>427,A16<=471),10,IF(AND(A16>=1,A16<61),1,IF(A16>471,11))))))))))) -> 7 | O16: =IF((O15+A16)>4000,A16,(O15+A16)) -> 1346.059 | P16: =IF(A16=O16,2," ") | Q16: =IF(P16=2,IF(COUNTIF(C16, "*T2*"), 1, " ")," " )
A17: 361.299 | C17: T2-F(0+6) | D17: 56.25 | H17: F-SA(0+4) | I17: =COUNTIF(C:C,H17) -> 0 | J17: 12 Body | K17: =SUM(I24:I27) -> 0 | M17: =IF(AND(A17>=61,A17<=110),2,IF(AND(A17>110,A17<=152),3,IF(AND(A17>152,A17<=196),4,IF(AND(A17>196,A17<=243),5,IF(AND(A17>243,A17<=289),6,IF(AND(A17>289,A17<=334),7,IF(AND(A17>334,A17<=376),8,IF(AND(A17>376,A17<=427),9,IF(AND(A17>427,A17<=471),10,IF(AND(A17>=1,A17<61),1,IF(A17>471,11))))))))))) -> 8 | O17: =IF((O16+A17)>4000,A17,(O16+A17)) -> 1707.358 | P17: =IF(A17=O17,2," ") | Q17: =IF(P17=2,IF(COUNTIF(C17, "*T2*"), 1, " ")," " )
A18: 361.149 | C18: T2-F(0+8) | D18: 58.25 | H18: F-SA(0+6) | I18: =COUNTIF(C:C,H18) -> 0 | J18: 6 Body | K18: =SUM(I20:I23) -> 0 | M18: =IF(AND(A18>=61,A18<=110),2,IF(AND(A18>110,A18<=152),3,IF(AND(A18>152,A18<=196),4,IF(AND(A18>196,A18<=243),5,IF(AND(A18>243,A18<=289),6,IF(AND(A18>289,A18<=334),7,IF(AND(A18>334,A18<=376),8,IF(AND(A18>376,A18<=427),9,IF(AND(A18>427,A18<=471),10,IF(AND(A18>=1,A18<61),1,IF(A18>471,11))))))))))) -> 8 | O18: =IF((O17+A18)>4000,A18,(O17+A18)) -> 2068.507 | P18: =IF(A18=O18,2," ") | Q18: =IF(P18=2,IF(COUNTIF(C18, "*T2*"), 1, " ")," " )
A19: 445.924 | C19: T2-F(6+6) | D19: 62.25 | H19: F-SA(0+8) | I19: =COUNTIF(C:C,H19) -> 1 | J19: 2 leg | K19: =I16+I20+I24 -> 0 | M19: =IF(AND(A19>=61,A19<=110),2,IF(AND(A19>110,A19<=152),3,IF(AND(A19>152,A19<=196),4,IF(AND(A19>196,A19<=243),5,IF(AND(A19>243,A19<=289),6,IF(AND(A19>289,A19<=334),7,IF(AND(A19>334,A19<=376),8,IF(AND(A19>376,A19<=427),9,IF(AND(A19>427,A19<=471),10,IF(AND(A19>=1,A19<61),1,IF(A19>471,11))))))))))) -> 10 | O19: =IF((O18+A19)>4000,A19,(O18+A19)) -> 2514.431 | P19: =IF(A19=O19,2," ") | Q19: =IF(P19=2,IF(COUNTIF(C19, "*T2*"), 1, " ")," " )
A20: 316.048 | B20: 7.7607 | C20: F-DE(12+8)SPL | D20: 69.75 | H20: F-SA(6+2) | I20: =COUNTIF(C:C,H20) -> 0 | J20: 4 leg | K20: =I17+I21+I25 -> 0 | M20: =IF(AND(A20>=61,A20<=110),2,IF(AND(A20>110,A20<=152),3,IF(AND(A20>152,A20<=196),4,IF(AND(A20>196,A20<=243),5,IF(AND(A20>243,A20<=289),6,IF(AND(A20>289,A20<=334),7,IF(AND(A20>334,A20<=376),8,IF(AND(A20>376,A20<=427),9,IF(AND(A20>427,A20<=471),10,IF(AND(A20>=1,A20<61),1,IF(A20>471,11))))))))))) -> 7 | O20: =IF((O19+A20)>4000,A20,(O19+A20)) -> 2830.479 | P20: =IF(A20=O20,2," ") | Q20: =IF(P20=2,IF(COUNTIF(C20, "*T2*"), 1, " ")," " )
A21: 339.363 | C21: F-AN(12+8)SPL | D21: 69.75 | H21: F-SA(6+4) | I21: =COUNTIF(C:C,H21) -> 0 | J21: 6 leg | K21: =I18+I22+I26 -> 0 | M21: =IF(AND(A21>=61,A21<=110),2,IF(AND(A21>110,A21<=152),3,IF(AND(A21>152,A21<=196),4,IF(AND(A21>196,A21<=243),5,IF(AND(A21>243,A21<=289),6,IF(AND(A21>289,A21<=334),7,IF(AND(A21>334,A21<=376),8,IF(AND(A21>376,A21<=427),9,IF(AND(A21>427,A21<=471),10,IF(AND(A21>=1,A21<61),1,IF(A21>471,11))))))))))) -> 8 | O21: =IF((O20+A21)>4000,A21,(O20+A21)) -> 3169.842 | P21: =IF(A21=O21,2," ") | Q21: =IF(P21=2,IF(COUNTIF(C21, "*T2*"), 1, " ")," " )
A22: 254.832 | C22: T2-F(0+8) | D22: 58.25 | H22: F-SA(6+6) | I22: =COUNTIF(C:C,H22) -> 0 | J22: 8 leg | K22: =I19+I23+I27 -> 1 | M22: =IF(AND(A22>=61,A22<=110),2,IF(AND(A22>110,A22<=152),3,IF(AND(A22>152,A22<=196),4,IF(AND(A22>196,A22<=243),5,IF(AND(A22>243,A22<=289),6,IF(AND(A22>289,A22<=334),7,IF(AND(A22>334,A22<=376),8,IF(AND(A22>376,A22<=427),9,IF(AND(A22>427,A22<=471),10,IF(AND(A22>=1,A22<61),1,IF(A22>471,11))))))))))) -> 6 | O22: =IF((O21+A22)>4000,A22,(O21+A22)) -> 3424.674 | P22: =IF(A22=O22,2," ") | Q22: =IF(P22=2,IF(COUNTIF(C22, "*T2*"), 1, " ")," " )
A23: 404.438 | B23: 11.7433 | C23: F-MA(0+8) | D23: 57.75 | H23: F-SA(6+8) | I23: =COUNTIF(C:C,H23) -> 0 | M23: =IF(AND(A23>=61,A23<=110),2,IF(AND(A23>110,A23<=152),3,IF(AND(A23>152,A23<=196),4,IF(AND(A23>196,A23<=243),5,IF(AND(A23>243,A23<=289),6,IF(AND(A23>289,A23<=334),7,IF(AND(A23>334,A23<=376),8,IF(AND(A23>376,A23<=427),9,IF(AND(A23>427,A23<=471),10,IF(AND(A23>=1,A23<61),1,IF(A23>471,11))))))))))) -> 9 | O23: =IF((O22+A23)>4000,A23,(O22+A23)) -> 3829.112 | P23: =IF(A23=O23,2," ") | Q23: =IF(P23=2,IF(COUNTIF(C23, "*T2*"), 1, " ")," " )
A24: 430.036 | C24: T2-F(12+4) | D24: 66.25 | H24: F-SA(12+2) | I24: =COUNTIF(C:C,H24) -> 0 | J24: platFORM | K24: =COUNTIFS(C:C,"*F-SA*",D:D,">65") -> 0 | M24: =IF(AND(A24>=61,A24<=110),2,IF(AND(A24>110,A24<=152),3,IF(AND(A24>152,A24<=196),4,IF(AND(A24>196,A24<=243),5,IF(AND(A24>243,A24<=289),6,IF(AND(A24>289,A24<=334),7,IF(AND(A24>334,A24<=376),8,IF(AND(A24>376,A24<=427),9,IF(AND(A24>427,A24<=471),10,IF(AND(A24>=1,A24<61),1,IF(A24>471,11))))))))))) -> 10 | O24: =IF((O23+A24)>4000,A24,(O23+A24)) -> 430.036 | P24: =IF(A24=O24,2," ") -> 2 | Q24: =IF(P24=2,IF(COUNTIF(C24, "*T2*"), 1, " ")," " ) -> 1
A25: 408.278 | C25: T2-F(12+4) | D25: 66.25 | H25: F-SA(12+4) | I25: =COUNTIF(C:C,H25) -> 0 | M25: =IF(AND(A25>=61,A25<=110),2,IF(AND(A25>110,A25<=152),3,IF(AND(A25>152,A25<=196),4,IF(AND(A25>196,A25<=243),5,IF(AND(A25>243,A25<=289),6,IF(AND(A25>289,A25<=334),7,IF(AND(A25>334,A25<=376),8,IF(AND(A25>376,A25<=427),9,IF(AND(A25>427,A25<=471),10,IF(AND(A25>=1,A25<61),1,IF(A25>471,11))))))))))) -> 9 | O25: =IF((O24+A25)>4000,A25,(O24+A25)) -> 838.314 | P25: =IF(A25=O25,2," ") | Q25: =IF(P25=2,IF(COUNTIF(C25, "*T2*"), 1, " ")," " )
A26: 400.35 | C26: T2-F(12+6) | D26: 68.25 | H26: F-SA(12+6) | I26: =COUNTIF(C:C,H26) -> 0 | J26: Template | K26: =IF(AND(K16>=1,K16<=15),1,IF(AND(K16>15,K16<=30),2,IF(AND(K16>30,K16<=50),3,IF(AND(K16>50,K16<=80),4,IF(AND(K16>80,K16<=120),5,IF(AND(K16>120,K16<=150),5,IF(AND(K16>150,K16<=200),6,IF(AND(K16>200,K16<=250),7,IF(K16>250,8,IF(K16<1,0)))))))))) -> 1 | M26: =IF(AND(A26>=61,A26<=110),2,IF(AND(A26>110,A26<=152),3,IF(AND(A26>152,A26<=196),4,IF(AND(A26>196,A26<=243),5,IF(AND(A26>243,A26<=289),6,IF(AND(A26>289,A26<=334),7,IF(AND(A26>334,A26<=376),8,IF(AND(A26>376,A26<=427),9,IF(AND(A26>427,A26<=471),10,IF(AND(A26>=1,A26<61),1,IF(A26>471,11))))))))))) -> 9 | O26: =IF((O25+A26)>4000,A26,(O25+A26)) -> 1238.664 | P26: =IF(A26=O26,2," ") | Q26: =IF(P26=2,IF(COUNTIF(C26, "*T2*"), 1, " ")," " )
A27: 410.079 | C27: T2-F(6+8) | D27: 64.25 | H27: F-SA(12+8) | I27: =COUNTIF(C:C,H27) -> 0 | M27: =IF(AND(A27>=61,A27<=110),2,IF(AND(A27>110,A27<=152),3,IF(AND(A27>152,A27<=196),4,IF(AND(A27>196,A27<=243),5,IF(AND(A27>243,A27<=289),6,IF(AND(A27>289,A27<=334),7,IF(AND(A27>334,A27<=376),8,IF(AND(A27>376,A27<=427),9,IF(AND(A27>427,A27<=471),10,IF(AND(A27>=1,A27<61),1,IF(A27>471,11))))))))))) -> 9 | O27: =IF((O26+A27)>4000,A27,(O26+A27)) -> 1648.743 | P27: =IF(A27=O27,2," ") | Q27: =IF(P27=2,IF(COUNTIF(C27, "*T2*"), 1, " ")," " )
A28: 377.357 | B28: -7.6171 | C28: F-SA(0+8) | D28: 57.75 | H28: F-MA(0+2) | I28: =COUNTIF(C:C,H28) -> 0 | J28: total | K28: =SUM(I28:I39) -> 4 | M28: =IF(AND(A28>=61,A28<=110),2,IF(AND(A28>110,A28<=152),3,IF(AND(A28>152,A28<=196),4,IF(AND(A28>196,A28<=243),5,IF(AND(A28>243,A28<=289),6,IF(AND(A28>289,A28<=334),7,IF(AND(A28>334,A28<=376),8,IF(AND(A28>376,A28<=427),9,IF(AND(A28>427,A28<=471),10,IF(AND(A28>=1,A28<61),1,IF(A28>471,11))))))))))) -> 9 | O28: =IF((O27+A28)>4000,A28,(O27+A28)) -> 2026.1 | P28: =IF(A28=O28,2," ") | Q28: =IF(P28=2,IF(COUNTIF(C28, "*T2*"), 1, " ")," " )
A29: 381.53 | C29: T2-F(6+4) | D29: 60.25 | H29: F-MA(0+4) | I29: =COUNTIF(C:C,H29) -> 0 | J29: 12 Body | K29: =SUM(I36:I39) -> 0 | M29: =IF(AND(A29>=61,A29<=110),2,IF(AND(A29>110,A29<=152),3,IF(AND(A29>152,A29<=196),4,IF(AND(A29>196,A29<=243),5,IF(AND(A29>243,A29<=289),6,IF(AND(A29>289,A29<=334),7,IF(AND(A29>334,A29<=376),8,IF(AND(A29>376,A29<=427),9,IF(AND(A29>427,A29<=471),10,IF(AND(A29>=1,A29<61),1,IF(A29>471,11))))))))))) -> 9 | O29: =IF((O28+A29)>4000,A29,(O28+A29)) -> 2407.63 | P29: =IF(A29=O29,2," ") | Q29: =IF(P29=2,IF(COUNTIF(C29, "*T2*"), 1, " ")," " )
A30: 338.102 | C30: T2-F(6+8) | D30: 64.25 | H30: F-MA(0+6) | I30: =COUNTIF(C:C,H30) -> 0 | J30: 6 Body | K30: =SUM(I32:I35) -> 0 | M30: =IF(AND(A30>=61,A30<=110),2,IF(AND(A30>110,A30<=152),3,IF(AND(A30>152,A30<=196),4,IF(AND(A30>196,A30<=243),5,IF(AND(A30>243,A30<=289),6,IF(AND(A30>289,A30<=334),7,IF(AND(A30>334,A30<=376),8,IF(AND(A30>376,A30<=427),9,IF(AND(A30>427,A30<=471),10,IF(AND(A30>=1,A30<61),1,IF(A30>471,11))))))))))) -> 8 | O30: =IF((O29+A30)>4000,A30,(O29+A30)) -> 2745.732 | P30: =IF(A30=O30,2," ") | Q30: =IF(P30=2,IF(COUNTIF(C30, "*T2*"), 1, " ")," " )
A31: 374.986 | B31: 18.6771 | C31: F-MA(0+8) | D31: 57.75 | H31: F-MA(0+8) | I31: =COUNTIF(C:C,H31) -> 4 | J31: 2 leg | K31: =I28+I32+I36 -> 0 | M31: =IF(AND(A31>=61,A31<=110),2,IF(AND(A31>110,A31<=152),3,IF(AND(A31>152,A31<=196),4,IF(AND(A31>196,A31<=243),5,IF(AND(A31>243,A31<=289),6,IF(AND(A31>289,A31<=334),7,IF(AND(A31>334,A31<=376),8,IF(AND(A31>376,A31<=427),9,IF(AND(A31>427,A31<=471),10,IF(AND(A31>=1,A31<61),1,IF(A31>471,11))))))))))) -> 8 | O31: =IF((O30+A31)>4000,A31,(O30+A31)) -> 3120.718 | P31: =IF(A31=O31,2," ") | Q31: =IF(P31=2,IF(COUNTIF(C31, "*T2*"), 1, " ")," " )
A32: 403.527 | C32: T2-F(6+8) | D32: 64.25 | H32: F-MA(6+2) | I32: =COUNTIF(C:C,H32) -> 0 | J32: 4 leg | K32: =I29+I33+I37 -> 0 | M32: =IF(AND(A32>=61,A32<=110),2,IF(AND(A32>110,A32<=152),3,IF(AND(A32>152,A32<=196),4,IF(AND(A32>196,A32<=243),5,IF(AND(A32>243,A32<=289),6,IF(AND(A32>289,A32<=334),7,IF(AND(A32>334,A32<=376),8,IF(AND(A32>376,A32<=427),9,IF(AND(A32>427,A32<=471),10,IF(AND(A32>=1,A32<61),1,IF(A32>471,11))))))))))) -> 9 | O32: =IF((O31+A32)>4000,A32,(O31+A32)) -> 3524.245 | P32: =IF(A32=O32,2," ") | Q32: =IF(P32=2,IF(COUNTIF(C32, "*T2*"), 1, " ")," " )
A33: 382.001 | C33: T2-F(6+6) | D33: 62.25 | H33: F-MA(6+4) | I33: =COUNTIF(C:C,H33) -> 0 | J33: 6 leg | K33: =I30+I34+I38 -> 0 | M33: =IF(AND(A33>=61,A33<=110),2,IF(AND(A33>110,A33<=152),3,IF(AND(A33>152,A33<=196),4,IF(AND(A33>196,A33<=243),5,IF(AND(A33>243,A33<=289),6,IF(AND(A33>289,A33<=334),7,IF(AND(A33>334,A33<=376),8,IF(AND(A33>376,A33<=427),9,IF(AND(A33>427,A33<=471),10,IF(AND(A33>=1,A33<61),1,IF(A33>471,11))))))))))) -> 9 | O33: =IF((O32+A33)>4000,A33,(O32+A33)) -> 3906.246 | P33: =IF(A33=O33,2," ") | Q33: =IF(P33=2,IF(COUNTIF(C33, "*T2*"), 1, " ")," " )
A34: 339.777 | C34: T2-F(0+8) | D34: 58.25 | H34: F-MA(6+6) | I34: =COUNTIF(C:C,H34) -> 0 | J34: 8 leg | K34: =I31+I35+I39 -> 4 | M34: =IF(AND(A34>=61,A34<=110),2,IF(AND(A34>110,A34<=152),3,IF(AND(A34>152,A34<=196),4,IF(AND(A34>196,A34<=243),5,IF(AND(A34>243,A34<=289),6,IF(AND(A34>289,A34<=334),7,IF(AND(A34>334,A34<=376),8,IF(AND(A34>376,A34<=427),9,IF(AND(A34>427,A34<=471),10,IF(AND(A34>=1,A34<61),1,IF(A34>471,11))))))))))) -> 8 | O34: =IF((O33+A34)>4000,A34,(O33+A34)) -> 339.777 | P34: =IF(A34=O34,2," ") -> 2 | Q34: =IF(P34=2,IF(COUNTIF(C34, "*T2*"), 1, " ")," " ) -> 1
A35: 333.599 | C35: T2-F(0+8) | D35: 58.25 | H35: F-MA(6+8) | I35: =COUNTIF(C:C,H35) -> 0 | M35: =IF(AND(A35>=61,A35<=110),2,IF(AND(A35>110,A35<=152),3,IF(AND(A35>152,A35<=196),4,IF(AND(A35>196,A35<=243),5,IF(AND(A35>243,A35<=289),6,IF(AND(A35>289,A35<=334),7,IF(AND(A35>334,A35<=376),8,IF(AND(A35>376,A35<=427),9,IF(AND(A35>427,A35<=471),10,IF(AND(A35>=1,A35<61),1,IF(A35>471,11))))))))))) -> 7 | O35: =IF((O34+A35)>4000,A35,(O34+A35)) -> 673.376 | P35: =IF(A35=O35,2," ") | Q35: =IF(P35=2,IF(COUNTIF(C35, "*T2*"), 1, " ")," " )
A36: 326.07 | B36: 24.1784 | C36: F-MA(0+8) | D36: 57.75 | H36: F-MA(12+2) | I36: =COUNTIF(C:C,H36) -> 0 | J36: platFORM | K36: =COUNTIFS(C:C,"*F-MA*",D:D,">65") -> 0 | M36: =IF(AND(A36>=61,A36<=110),2,IF(AND(A36>110,A36<=152),3,IF(AND(A36>152,A36<=196),4,IF(AND(A36>196,A36<=243),5,IF(AND(A36>243,A36<=289),6,IF(AND(A36>289,A36<=334),7,IF(AND(A36>334,A36<=376),8,IF(AND(A36>376,A36<=427),9,IF(AND(A36>427,A36<=471),10,IF(AND(A36>=1,A36<61),1,IF(A36>471,11))))))))))) -> 7 | O36: =IF((O35+A36)>4000,A36,(O35+A36)) -> 999.446 | P36: =IF(A36=O36,2," ") | Q36: =IF(P36=2,IF(COUNTIF(C36, "*T2*"), 1, " ")," " )
A37: 109.997 | B37: -10.0207 | C37: F-DE(0+2) | D37: 51.75 | H37: F-MA(12+4) | I37: =COUNTIF(C:C,H37) -> 0 | M37: =IF(AND(A37>=61,A37<=110),2,IF(AND(A37>110,A37<=152),3,IF(AND(A37>152,A37<=196),4,IF(AND(A37>196,A37<=243),5,IF(AND(A37>243,A37<=289),6,IF(AND(A37>289,A37<=334),7,IF(AND(A37>334,A37<=376),8,IF(AND(A37>376,A37<=427),9,IF(AND(A37>427,A37<=471),10,IF(AND(A37>=1,A37<61),1,IF(A37>471,11))))))))))) -> 2 | O37: =IF((O36+A37)>4000,A37,(O36+A37)) -> 1109.443 | P37: =IF(A37=O37,2," ") | Q37: =IF(P37=2,IF(COUNTIF(C37, "*T2*"), 1, " ")," " )
C38: F-HA(0+4) | D38: 53.75 | H38: F-MA(12+6) | I38: =COUNTIF(C:C,H38) -> 0 | J38: Template | K38: =IF(AND(K28>=1,K28<=15),1,IF(AND(K28>15,K28<=30),2,IF(AND(K28>30,K28<=50),3,IF(AND(K28>50,K28<=80),4,IF(AND(K28>80,K28<=120),5,IF(AND(K28>120,K28<=150),5,IF(AND(K28>150,K28<=200),6,IF(AND(K28>200,K28<=250),7,IF(K28>250,8,IF(K28<1,0)))))))))) -> 1
H39: F-MA(12+8) | I39: =COUNTIF(C:C,H39) -> 0
H40: F-LA(0+2) | I40: =COUNTIF(C:C,H40) -> 0 | J40: total | K40: =SUM(I40:I51) -> 1
H41: F-LA(0+4) | I41: =COUNTIF(C:C,H41) -> 1 | J41: 12 Body | K41: =SUM(I48:I51) -> 0
H42: F-LA(0+6) | I42: =COUNTIF(C:C,H42) -> 0 | J42: 6 Body | K42: =SUM(I44:I47) -> 0
H43: F-LA(0+8) | I43: =COUNTIF(C:C,H43) -> 0 | J43: 2 leg | K43: =I40+I44+I48 -> 0
H44: F-LA(6+2) | I44: =COUNTIF(C:C,H44) -> 0 | J44: 4 leg | K44: =I41+I45+I49 -> 1
H45: F-LA(6+4) | I45: =COUNTIF(C:C,H45) -> 0 | J45: 6 leg | K45: =I42+I46+I50 -> 0
H46: F-LA(6+6) | I46: =COUNTIF(C:C,H46) -> 0 | J46: 8 leg | K46: =I43+I47+I51 -> 0
H47: F-LA(6+8) | I47: =COUNTIF(C:C,H47) -> 0
H48: F-LA(12+2) | I48: =COUNTIF(C:C,H48) -> 0 | J48: platFORM | K48: =COUNTIFS(C:C,"*F-LA*",D:D,">65") -> 0
H49: F-LA(12+4) | I49: =COUNTIF(C:C,H49) -> 0
H50: F-LA(12+6) | I50: =COUNTIF(C:C,H50) -> 0 | J50: Template | K50: =IF(AND(K40>=1,K40<=15),1,IF(AND(K40>15,K40<=30),2,IF(AND(K40>30,K40<=50),3,IF(AND(K40>50,K40<=80),4,IF(AND(K40>80,K40<=120),5,IF(AND(K40>120,K40<=150),5,IF(AND(K40>150,K40<=200),6,IF(AND(K40>200,K40<=250),7,IF(K40>250,8,IF(K40<1,0)))))))))) -> 1
H51: F-LA(12+8) | I51: =COUNTIF(C:C,H51) -> 0
H52: F-HA(0+2) | I52: =COUNTIF(C:C,H52) -> 0 | J52: total | K52: =SUM(I52:I63) -> 1
H53: F-HA(0+4) | I53: =COUNTIF(C:C,H53) -> 1 | J53: 12 Body | K53: =SUM(I60:I63) -> 0
H54: F-HA(0+6) | I54: =COUNTIF(C:C,H54) -> 0 | J54: 6 Body | K54: =SUM(I56:I59) -> 0
H55: F-HA(0+8) | I55: =COUNTIF(C:C,H55) -> 0 | J55: 2 leg | K55: =I52+I56+I60 -> 0
H56: F-HA(6+2) | I56: =COUNTIF(C:C,H56) -> 0 | J56: 4 leg | K56: =I53+I57+I61 -> 1
H57: F-HA(6+4) | I57: =COUNTIF(C:C,H57) -> 0 | J57: 6 leg | K57: =I54+I58+I62 -> 0
H58: F-HA(6+6) | I58: =COUNTIF(C:C,H58) -> 0 | J58: 8 leg | K58: =I55+I59+I63 -> 0
H59: F-HA(6+8) | I59: =COUNTIF(C:C,H59) -> 0
H60: F-HA(12+2) | I60: =COUNTIF(C:C,H60) -> 0 | J60: platFORM | K60: =COUNTIFS(C:C,"*F-HA*",D:D,">65") -> 0
H61: F-HA(12+4) | I61: =COUNTIF(C:C,H61) -> 0
H62: F-HA(12+6) | I62: =COUNTIF(C:C,H62) -> 0 | J62: Template | K62: =IF(AND(K52>=1,K52<=15),1,IF(AND(K52>15,K52<=30),2,IF(AND(K52>30,K52<=50),3,IF(AND(K52>50,K52<=80),4,IF(AND(K52>80,K52<=120),5,IF(AND(K52>120,K52<=150),5,IF(AND(K52>150,K52<=200),6,IF(AND(K52>200,K52<=250),7,IF(K52>250,8,IF(K52<1,0)))))))))) -> 1
H63: F-HA(12+8) | I63: =COUNTIF(C:C,H63) -> 0
H64: F-DE(0+2) | I64: =COUNTIF(C:C,H64) -> 2 | J64: total | K64: =SUM(I64:I75) -> 5
H65: F-DE(0+4) | I65: =COUNTIF(C:C,H65) -> 0 | J65: 12 Body | K65: =SUM(I72:I75) -> 2
H66: F-DE(0+6) | I66: =COUNTIF(C:C,H66) -> 0 | J66: 6 Body | K66: =SUM(I68:I71) -> 1
H67: F-DE(0+8) | I67: =COUNTIF(C:C,H67) -> 0 | J67: 2 leg | K67: =I64+I68+I72 -> 2
H68: F-DE(6+2) | I68: =COUNTIF(C:C,H68) -> 0 | J68: 4 leg | K68: =I65+I69+I73 -> 0
H69: F-DE(6+4) | I69: =COUNTIF(C:C,H69) -> 0 | J69: 6 leg | K69: =I66+I70+I74 -> 1
H70: F-DE(6+6) | I70: =COUNTIF(C:C,H70) -> 1 | J70: 8 leg | K70: =I67+I71+I75 -> 2
H71: F-DE(6+8) | I71: =COUNTIF(C:C,H71) -> 0
H72: F-DE(12+2) | I72: =COUNTIF(C:C,H72) -> 0 | J72: platFORM | K72: =COUNTIFS(C:C,"*F-DE*",D:D,">65") -> 3
H73: F-DE(12+4) | I73: =COUNTIF(C:C,H73) -> 0
H74: F-DE(12+6) | I74: =COUNTIF(C:C,H74) -> 0 | J74: Template | K74: =IF(AND(K64>=1,K64<=15),1,IF(AND(K64>15,K64<=30),2,IF(AND(K64>30,K64<=50),3,IF(AND(K64>50,K64<=80),4,IF(AND(K64>80,K64<=120),5,IF(AND(K64>120,K64<=150),5,IF(AND(K64>150,K64<=200),6,IF(AND(K64>200,K64<=250),7,IF(K64>250,8,IF(K64<1,0)))))))))) -> 1
H75: F-DE(12+8) | I75: =COUNTIF(C:C,H75) -> 2
H76: F-AN(0+2) | I76: =COUNTIF(C:C,H76) -> 0 | J76: total | K76: =SUM(I76:I87) -> 2
H77: F-AN(0+4) | I77: =COUNTIF(C:C,H77) -> 0 | J77: 12 Body | K77: =SUM(I84:I87) -> 0
H78: F-AN(0+6) | I78: =COUNTIF(C:C,H78) -> 0 | J78: 6 Body | K78: =SUM(I80:I83) -> 1
H79: F-AN(0+8) | I79: =COUNTIF(C:C,H79) -> 1 | J79: 2 leg | K79: =I76+I80+I84 -> 0
H80: F-AN(6+2) | I80: =COUNTIF(C:C,H80) -> 0 | J80: 4 leg | K80: =I77+I81+I85 -> 1
H81: F-AN(6+4) | I81: =COUNTIF(C:C,H81) -> 1 | J81: 6 leg | K81: =I78+I82+I86 -> 0
H82: F-AN(6+6) | I82: =COUNTIF(C:C,H82) -> 0 | J82: 8 leg | K82: =I79+I83+I87 -> 1
H83: F-AN(6+8) | I83: =COUNTIF(C:C,H83) -> 0
H84: F-AN(12+2) | I84: =COUNTIF(C:C,H84) -> 0 | J84: platFORM | K84: =COUNTIFS(C:C,"*F-AN*",D:D,">65") -> 1
H85: F-AN(12+4) | I85: =COUNTIF(C:C,H85) -> 0
H86: F-AN(12+6) | I86: =COUNTIF(C:C,H86) -> 0 | J86: Template | K86: =IF(AND(K76>=1,K76<=15),1,IF(AND(K76>15,K76<=30),2,IF(AND(K76>30,K76<=50),3,IF(AND(K76>50,K76<=80),4,IF(AND(K76>80,K76<=120),5,IF(AND(K76>120,K76<=150),5,IF(AND(K76>150,K76<=200),6,IF(AND(K76>200,K76<=250),7,IF(K76>250,8,IF(K76<1,0)))))))))) -> 1
H87: F-AN(12+8) | I87: =COUNTIF(C:C,H87) -> 0
H88: Gantry | I88: =COUNTIF(C:C,H88) -> 1
H89: Special | I89: =COUNTIF(C:C, "*sp*") -> 2
H90: Total Towers | K90: =K76+K64+K52+K40+K28+K16+K4+I88+I89 -> 38
H96: Quad S Dampers | I96: =SUM(M:M)*6 -> 1722
H98: Joint Boxes | I98: =SUM(P:P) -> 8
H99: JB on SS | I99: =SUM(Q:Q) -> 3

Sheet Staking Table
A1: 1 | B1: -0.001 | F1: xxxxxxxx | G1: xxxxxxxx | H1: 31.5 | J1: 59.666 | L1: Gantry | M1: 33 | N1: Start
A2: 2 | B2: 59.665 | F2: xxxxxxxx | G2: xxxxxxxx | H2: 30.008 | J2: 149.175 | L2: F-DE(0+2) | M2: 51.75
A3: 3 | B3: 208.84 | F3: xxxxxxxx | G3: xxxxxxxx | H3: 30.262 | J3: 321.842 | L3: F-DE(6+6) | M3: 61.75 | O3: Highway
A4: 4 | B4: 530.682 | F4: xxxxxxxx | G4: xxxxxxxx | H4: 32.2 | J4: 486.534 | K4: 13.2258 | L4: F-DE(12+8) | M4: 69.75 | N4: PI-1
A5: 5 | B5: 1017.216 | F5: xxxxxxxx | G5: xxxxxxxx | H5: 29.7 | J5: 344.396 | K5: 4.986 | L5: F-DE(12+8) | M5: 69.75 | N5: PI-2
A6: 6 | B6: 1361.612 | C6: -2 | F6: xxxxxxxx | G6: xxxxxxxx | H6: 38.54 | J6: 350.905 | L6: T2-F(0+8) | M6: 58.25
A7: 7 | B7: 1712.517 | F7: xxxxxxxx | G7: xxxxxxxx | H7: 33.941 | J7: 422.037 | L7: T2-F(6+8) | M7: 64.25
A8: 8 | B8: 2134.554 | F8: xxxxxxxx | G8: xxxxxxxx | H8: 36.1 | J8: 366.163 | K8: 57.8193 | L8: F-LA(0+4) | M8: 53.75 | N8: PI-3
A9: 9 | B9: 2500.717 | F9: xxxxxxxx | G9: xxxxxxxx | H9: 32.297 | J9: 339.816 | L9: T2-F(0+6) | M9: 56.25
A10: 10 | B10: 2840.533 | F10: xxxxxxxx | G10: xxxxxxxx | H10: 34.103 | J10: 391.734 | L10: T2-F(0+8) | M10: 58.25
A11: 11 | B11: 3232.267 | F11: xxxxxxxx | G11: xxxxxxxx | H11: 34.6 | J11: 352.226 | L11: F-AN(6+4) | M11: 59.75 | O11: Highway
A12: 12 | B12: 3584.493 | F12: xxxxxxxx | G12: xxxxxxxx | H12: 33.616 | J12: 344.686 | L12: F-AN(0+8) | M12: 57.75
A13: 13 | B13: 3929.179 | F13: xxxxxxxx | G13: xxxxxxxx | H13: 35.561 | J13: 369.372 | L13: T2-F(0+8) | M13: 58.25
A14: 14 | B14: 4298.551 | F14: xxxxxxxx | G14: xxxxxxxx | H14: 36.053 | J14: 335.822 | L14: T2-F(0+6) | M14: 56.25
A15: 15 | B15: 4634.373 | F15: xxxxxxxx | G15: xxxxxxxx | H15: 34.363 | J15: 326.575 | L15: T2-F(0+6) | M15: 56.25
A16: 16 | B16: 4960.948 | F16: xxxxxxxx | G16: xxxxxxxx | H16: 34 | J16: 314.29 | K16: -22.3294 | L16: F-MA(0+8) | M16: 57.75 | N16: PI-4
A17: 17 | B17: 5275.238 | F17: xxxxxxxx | G17: xxxxxxxx | H17: 39.368 | J17: 361.299 | L17: T2-F(0+6) | M17: 56.25
A18: 18 | B18: 5636.537 | F18: xxxxxxxx | G18: xxxxxxxx | H18: 41.4 | J18: 361.149 | L18: T2-F(0+8) | M18: 58.25
A19: 19 | B19: 5997.686 | F19: xxxxxxxx | G19: xxxxxxxx | H19: 39.021 | J19: 445.924 | L19: T2-F(6+6) | M19: 62.25
A20: 20 | B20: 6443.61 | F20: xxxxxxxx | G20: xxxxxxxx | H20: 43.2 | J20: 316.048 | K20: 7.7607 | L20: F-DE(12+8)SPL | M20: 69.75 | N20: PI-5
A21: 21 | B21: 6759.658 | F21: xxxxxxxx | G21: xxxxxxxx | H21: 48.1 | J21: 339.363 | L21: F-AN(12+8)SPL | M21: 69.75
A22: 22 | B22: 7099.021 | F22: xxxxxxxx | G22: xxxxxxxx | H22: 54.6 | J22: 254.832 | L22: T2-F(0+8) | M22: 58.25
A23: 23 | B23: 7353.853 | F23: xxxxxxxx | G23: xxxxxxxx | H23: 55.3 | J23: 404.438 | K23: 11.7433 | L23: F-MA(0+8) | M23: 57.75 | N23: PI-6
A24: 24 | B24: 7758.291 | F24: xxxxxxxx | G24: xxxxxxxx | H24: 49.554 | J24: 430.036 | L24: T2-F(12+4) | M24: 66.25
A25: 25 | B25: 8188.327 | F25: xxxxxxxx | G25: xxxxxxxx | H25: 48.027 | J25: 408.278 | L25: T2-F(12+4) | M25: 66.25
A26: 26 | B26: 8596.605 | F26: xxxxxxxx | G26: xxxxxxxx | H26: 51.734 | J26: 400.35 | L26: T2-F(12+6) | M26: 68.25
A27: 27 | B27: 8996.955 | F27: xxxxxxxx | G27: xxxxxxxx | H27: 56.592 | J27: 410.079 | L27: T2-F(6+8) | M27: 64.25
A28: 28 | B28: 9407.034 | F28: xxxxxxxx | G28: xxxxxxxx | H28: 50.4 | J28: 377.357 | K28: -7.6171 | L28: F-SA(0+8) | M28: 57.75 | N28: PI-7
A29: 29 | B29: 9784.391 | F29: xxxxxxxx | G29: xxxxxxxx | H29: 56.152 | J29: 381.53 | L29: T2-F(6+4) | M29: 60.25
A30: 30 | B30: 10165.921 | F30: xxxxxxxx | G30: xxxxxxxx | H30: 53.811 | J30: 338.102 | L30: T2-F(6+8) | M30: 64.25
A31: 31 | B31: 10504.023 | F31: xxxxxxxx | G31: xxxxxxxx | H31: 55.8 | J31: 374.986 | K31: 18.6771 | L31: F-MA(0+8) | M31: 57.75 | N31: PI-8
A32: 32 | B32: 10879.009 | F32: xxxxxxxx | G32: xxxxxxxx | H32: 52.525 | J32: 403.527 | L32: T2-F(6+8) | M32: 64.25
A33: 33 | B33: 11282.536 | F33: xxxxxxxx | G33: xxxxxxxx | H33: 55.369 | J33: 382.001 | L33: T2-F(6+6) | M33: 62.25
A34: 34 | B34: 11664.537 | F34: xxxxxxxx | G34: xxxxxxxx | H34: 59.7 | J34: 339.777 | L34: T2-F(0+8) | M34: 58.25
A35: 35 | B35: 12004.314 | F35: xxxxxxxx | G35: xxxxxxxx | H35: 61.3 | J35: 333.599 | L35: T2-F(0+8) | M35: 58.25
A36: 36 | B36: 12337.913 | F36: xxxxxxxx | G36: xxxxxxxx | H36: 62.2 | J36: 326.07 | K36: 24.1784 | L36: F-MA(0+8) | M36: 57.75 | N36: PI-9
A37: 37 | B37: 12663.982 | F37: xxxxxxxx | G37: xxxxxxxx | H37: 62.8 | J37: 109.997 | K37: -10.0207 | L37: F-DE(0+2) | M37: 51.75 | N37: PI-10
A38: 38 | B38: 12773.979 | F38: xxxxxxxx | G38: xxxxxxxx | H38: 61.6 | L38: F-HA(0+4) | M38: 53.75 | N38: END
